BEGIN:VCALENDAR
VERSION:2.0
PRODID:-//Bognor Model Car Club - ECPv6.15.17//NONSGML v1.0//EN
CALSCALE:GREGORIAN
METHOD:PUBLISH
X-ORIGINAL-URL:https://bognormodelcars.org.uk
X-WR-CALDESC:Events for Bognor Model Car Club
REFRESH-INTERVAL;VALUE=DURATION:PT1H
X-Robots-Tag:noindex
X-PUBLISHED-TTL:PT1H
BEGIN:VTIMEZONE
TZID:Europe/London
BEGIN:DAYLIGHT
TZOFFSETFROM:+0000
TZOFFSETTO:+0100
TZNAME:BST
DTSTART:20250330T010000
END:DAYLIGHT
BEGIN:STANDARD
TZOFFSETFROM:+0100
TZOFFSETTO:+0000
TZNAME:GMT
DTSTART:20251026T010000
END:STANDARD
BEGIN:DAYLIGHT
TZOFFSETFROM:+0000
TZOFFSETTO:+0100
TZNAME:BST
DTSTART:20260329T010000
END:DAYLIGHT
BEGIN:STANDARD
TZOFFSETFROM:+0100
TZOFFSETTO:+0000
TZNAME:GMT
DTSTART:20261025T010000
END:STANDARD
BEGIN:DAYLIGHT
TZOFFSETFROM:+0000
TZOFFSETTO:+0100
TZNAME:BST
DTSTART:20270328T010000
END:DAYLIGHT
BEGIN:STANDARD
TZOFFSETFROM:+0100
TZOFFSETTO:+0000
TZNAME:GMT
DTSTART:20271031T010000
END:STANDARD
END:VTIMEZONE
BEGIN:VEVENT
DTSTART;TZID=Europe/London:20260112T183000
DTEND;TZID=Europe/London:20260112T230000
DTSTAMP:20260425T122053
CREATED:20251222T215501Z
LAST-MODIFIED:20251222T215501Z
UID:1392-1768242600-1768258800@bognormodelcars.org.uk
SUMMARY:2026 - Spring Championship Round 1 / Annual Championship Round 1
DESCRIPTION:
URL:https://bognormodelcars.org.uk/event/2026-spring-championship-round-1-annual-championship-round-1
LOCATION:Aldingbourne Community Sports Centre\, Olivers Meadow\, Westergate\, West Sussex\, PO20 3YA\, United Kingdom
CATEGORIES:Race Meetings
END:VEVENT
BEGIN:VEVENT
DTSTART;TZID=Europe/London:20260126T183000
DTEND;TZID=Europe/London:20260126T230000
DTSTAMP:20260425T122053
CREATED:20260103T195103Z
LAST-MODIFIED:20260103T195103Z
UID:1394-1769452200-1769468400@bognormodelcars.org.uk
SUMMARY:2026 - Spring Championship Round 2
DESCRIPTION:
URL:https://bognormodelcars.org.uk/event/2026-spring-championship-round-2
LOCATION:Aldingbourne Community Sports Centre\, Olivers Meadow\, Westergate\, West Sussex\, PO20 3YA\, United Kingdom
CATEGORIES:Race Meetings
END:VEVENT
END:VCALENDAR