BEGIN:VCALENDAR
VERSION:2.0
PRODID:-//Bognor Model Car Club - ECPv6.15.17//NONSGML v1.0//EN
CALSCALE:GREGORIAN
METHOD:PUBLISH
X-ORIGINAL-URL:https://bognormodelcars.org.uk
X-WR-CALDESC:Events for Bognor Model Car Club
REFRESH-INTERVAL;VALUE=DURATION:PT1H
X-Robots-Tag:noindex
X-PUBLISHED-TTL:PT1H
BEGIN:VTIMEZONE
TZID:Europe/London
BEGIN:DAYLIGHT
TZOFFSETFROM:+0000
TZOFFSETTO:+0100
TZNAME:BST
DTSTART:20250330T010000
END:DAYLIGHT
BEGIN:STANDARD
TZOFFSETFROM:+0100
TZOFFSETTO:+0000
TZNAME:GMT
DTSTART:20251026T010000
END:STANDARD
BEGIN:DAYLIGHT
TZOFFSETFROM:+0000
TZOFFSETTO:+0100
TZNAME:BST
DTSTART:20260329T010000
END:DAYLIGHT
BEGIN:STANDARD
TZOFFSETFROM:+0100
TZOFFSETTO:+0000
TZNAME:GMT
DTSTART:20261025T010000
END:STANDARD
BEGIN:DAYLIGHT
TZOFFSETFROM:+0000
TZOFFSETTO:+0100
TZNAME:BST
DTSTART:20270328T010000
END:DAYLIGHT
BEGIN:STANDARD
TZOFFSETFROM:+0100
TZOFFSETTO:+0000
TZNAME:GMT
DTSTART:20271031T010000
END:STANDARD
END:VTIMEZONE
BEGIN:VEVENT
DTSTART;TZID=Europe/London:20261116T183000
DTEND;TZID=Europe/London:20261116T230000
DTSTAMP:20260421T235157
CREATED:20260103T212401Z
LAST-MODIFIED:20260103T212401Z
UID:1436-1794853800-1794870000@bognormodelcars.org.uk
SUMMARY:2026 - Autumn/Winter Championship Round 6
DESCRIPTION:
URL:https://bognormodelcars.org.uk/event/2026-autumn-winter-championship-round-6
LOCATION:Aldingbourne Community Sports Centre\, Olivers Meadow\, Westergate\, West Sussex\, PO20 3YA\, United Kingdom
CATEGORIES:Race Meetings
END:VEVENT
BEGIN:VEVENT
DTSTART;TZID=Europe/London:20261130T183000
DTEND;TZID=Europe/London:20261130T230000
DTSTAMP:20260421T235157
CREATED:20260103T212448Z
LAST-MODIFIED:20260103T212448Z
UID:1438-1796063400-1796079600@bognormodelcars.org.uk
SUMMARY:2026 - Autumn/Winter Championship Round 7
DESCRIPTION:
URL:https://bognormodelcars.org.uk/event/2026-autumn-winter-championship-round-7
LOCATION:Aldingbourne Community Sports Centre\, Olivers Meadow\, Westergate\, West Sussex\, PO20 3YA\, United Kingdom
CATEGORIES:Race Meetings
END:VEVENT
BEGIN:VEVENT
DTSTART;TZID=Europe/London:20261214T183000
DTEND;TZID=Europe/London:20261214T230000
DTSTAMP:20260421T235157
CREATED:20260103T212605Z
LAST-MODIFIED:20260103T212605Z
UID:1440-1797273000-1797289200@bognormodelcars.org.uk
SUMMARY:2026 - Autumn/Winter Championship Round 8 / Annual Championship Round 12
DESCRIPTION:
URL:https://bognormodelcars.org.uk/event/2026-autumn-winter-championship-round-8-annual-championship-round-12
LOCATION:Aldingbourne Community Sports Centre\, Olivers Meadow\, Westergate\, West Sussex\, PO20 3YA\, United Kingdom
CATEGORIES:Race Meetings
END:VEVENT
BEGIN:VEVENT
DTSTART;TZID=Europe/London:20261228T183000
DTEND;TZID=Europe/London:20261228T230000
DTSTAMP:20260421T235157
CREATED:20260103T212719Z
LAST-MODIFIED:20260103T212719Z
UID:1442-1798482600-1798498800@bognormodelcars.org.uk
SUMMARY:2026 - Autumn/Winter Championship Round 9
DESCRIPTION:
URL:https://bognormodelcars.org.uk/event/2026-autumn-winter-championship-round-9
LOCATION:Aldingbourne Community Sports Centre\, Olivers Meadow\, Westergate\, West Sussex\, PO20 3YA\, United Kingdom
CATEGORIES:Race Meetings
END:VEVENT
END:VCALENDAR