BEGIN:VCALENDAR
VERSION:2.0
PRODID:-//Bognor Model Car Club - ECPv6.15.17//NONSGML v1.0//EN
CALSCALE:GREGORIAN
METHOD:PUBLISH
X-WR-CALNAME:Bognor Model Car Club
X-ORIGINAL-URL:https://bognormodelcars.org.uk
X-WR-CALDESC:Events for Bognor Model Car Club
REFRESH-INTERVAL;VALUE=DURATION:PT1H
X-Robots-Tag:noindex
X-PUBLISHED-TTL:PT1H
BEGIN:VTIMEZONE
TZID:Europe/London
BEGIN:DAYLIGHT
TZOFFSETFROM:+0000
TZOFFSETTO:+0100
TZNAME:BST
DTSTART:20230326T010000
END:DAYLIGHT
BEGIN:STANDARD
TZOFFSETFROM:+0100
TZOFFSETTO:+0000
TZNAME:GMT
DTSTART:20231029T010000
END:STANDARD
BEGIN:DAYLIGHT
TZOFFSETFROM:+0000
TZOFFSETTO:+0100
TZNAME:BST
DTSTART:20240331T010000
END:DAYLIGHT
BEGIN:STANDARD
TZOFFSETFROM:+0100
TZOFFSETTO:+0000
TZNAME:GMT
DTSTART:20241027T010000
END:STANDARD
BEGIN:DAYLIGHT
TZOFFSETFROM:+0000
TZOFFSETTO:+0100
TZNAME:BST
DTSTART:20250330T010000
END:DAYLIGHT
BEGIN:STANDARD
TZOFFSETFROM:+0100
TZOFFSETTO:+0000
TZNAME:GMT
DTSTART:20251026T010000
END:STANDARD
END:VTIMEZONE
BEGIN:VEVENT
DTSTART;TZID=Europe/London:20240701T183000
DTEND;TZID=Europe/London:20240701T230000
DTSTAMP:20260422T024704
CREATED:20231219T220033Z
LAST-MODIFIED:20231219T220033Z
UID:995-1719858600-1719874800@bognormodelcars.org.uk
SUMMARY:2024 - Summer Championship Round 5 / Annual Championship Round 7
DESCRIPTION:
URL:https://bognormodelcars.org.uk/event/2024-summer-championship-round-5-annual-championship-round-7
LOCATION:Aldingbourne Community Sports Centre\, Olivers Meadow\, Westergate\, West Sussex\, PO20 3YA\, United Kingdom
CATEGORIES:Race Meetings
END:VEVENT
BEGIN:VEVENT
DTSTART;TZID=Europe/London:20240715T183000
DTEND;TZID=Europe/London:20240715T230000
DTSTAMP:20260422T024704
CREATED:20231219T220115Z
LAST-MODIFIED:20231219T220115Z
UID:997-1721068200-1721084400@bognormodelcars.org.uk
SUMMARY:2024 - Summer Championship Round 6
DESCRIPTION:
URL:https://bognormodelcars.org.uk/event/2024-summer-championship-round-6
LOCATION:Aldingbourne Community Sports Centre\, Olivers Meadow\, Westergate\, West Sussex\, PO20 3YA\, United Kingdom
CATEGORIES:Race Meetings
END:VEVENT
BEGIN:VEVENT
DTSTART;TZID=Europe/London:20240729T183000
DTEND;TZID=Europe/London:20240729T230000
DTSTAMP:20260422T024704
CREATED:20231219T220143Z
LAST-MODIFIED:20231219T220143Z
UID:999-1722277800-1722294000@bognormodelcars.org.uk
SUMMARY:2024 - Summer Championship Round 7
DESCRIPTION:
URL:https://bognormodelcars.org.uk/event/2024-summer-championship-round-7
LOCATION:Aldingbourne Community Sports Centre\, Olivers Meadow\, Westergate\, West Sussex\, PO20 3YA\, United Kingdom
CATEGORIES:Race Meetings
END:VEVENT
END:VCALENDAR