BEGIN:VCALENDAR
VERSION:2.0
PRODID:-//Bognor Model Car Club - ECPv6.15.17//NONSGML v1.0//EN
CALSCALE:GREGORIAN
METHOD:PUBLISH
X-ORIGINAL-URL:https://bognormodelcars.org.uk
X-WR-CALDESC:Events for Bognor Model Car Club
REFRESH-INTERVAL;VALUE=DURATION:PT1H
X-Robots-Tag:noindex
X-PUBLISHED-TTL:PT1H
BEGIN:VTIMEZONE
TZID:Europe/London
BEGIN:DAYLIGHT
TZOFFSETFROM:+0000
TZOFFSETTO:+0100
TZNAME:BST
DTSTART:20230326T010000
END:DAYLIGHT
BEGIN:STANDARD
TZOFFSETFROM:+0100
TZOFFSETTO:+0000
TZNAME:GMT
DTSTART:20231029T010000
END:STANDARD
BEGIN:DAYLIGHT
TZOFFSETFROM:+0000
TZOFFSETTO:+0100
TZNAME:BST
DTSTART:20240331T010000
END:DAYLIGHT
BEGIN:STANDARD
TZOFFSETFROM:+0100
TZOFFSETTO:+0000
TZNAME:GMT
DTSTART:20241027T010000
END:STANDARD
BEGIN:DAYLIGHT
TZOFFSETFROM:+0000
TZOFFSETTO:+0100
TZNAME:BST
DTSTART:20250330T010000
END:DAYLIGHT
BEGIN:STANDARD
TZOFFSETFROM:+0100
TZOFFSETTO:+0000
TZNAME:GMT
DTSTART:20251026T010000
END:STANDARD
END:VTIMEZONE
BEGIN:VEVENT
DTSTART;TZID=Europe/London:20240909T183000
DTEND;TZID=Europe/London:20240909T230000
DTSTAMP:20260421T234359
CREATED:20231219T220603Z
LAST-MODIFIED:20231219T220603Z
UID:1005-1725906600-1725922800@bognormodelcars.org.uk
SUMMARY:2024 - Autumn/Winter Championship Round 1 / Annual Championship Round 9
DESCRIPTION:
URL:https://bognormodelcars.org.uk/event/2024-autumn-winter-championship-round-1-annual-championship-round-9
LOCATION:Aldingbourne Community Sports Centre\, Olivers Meadow\, Westergate\, West Sussex\, PO20 3YA\, United Kingdom
CATEGORIES:Race Meetings
END:VEVENT
BEGIN:VEVENT
DTSTART;TZID=Europe/London:20240923T183000
DTEND;TZID=Europe/London:20240923T230000
DTSTAMP:20260421T234359
CREATED:20231219T220721Z
LAST-MODIFIED:20231219T220721Z
UID:1007-1727116200-1727132400@bognormodelcars.org.uk
SUMMARY:2024 - Autumn/Winter Championship Round 2
DESCRIPTION:
URL:https://bognormodelcars.org.uk/event/2024-autumn-winter-championship-round-2
LOCATION:Aldingbourne Community Sports Centre\, Olivers Meadow\, Westergate\, West Sussex\, PO20 3YA\, United Kingdom
CATEGORIES:Race Meetings
END:VEVENT
END:VCALENDAR