BEGIN:VCALENDAR
VERSION:2.0
PRODID:-//Bognor Model Car Club - ECPv6.15.17//NONSGML v1.0//EN
CALSCALE:GREGORIAN
METHOD:PUBLISH
X-ORIGINAL-URL:https://bognormodelcars.org.uk
X-WR-CALDESC:Events for Bognor Model Car Club
REFRESH-INTERVAL;VALUE=DURATION:PT1H
X-Robots-Tag:noindex
X-PUBLISHED-TTL:PT1H
BEGIN:VTIMEZONE
TZID:Europe/London
BEGIN:DAYLIGHT
TZOFFSETFROM:+0000
TZOFFSETTO:+0100
TZNAME:BST
DTSTART:20230326T010000
END:DAYLIGHT
BEGIN:STANDARD
TZOFFSETFROM:+0100
TZOFFSETTO:+0000
TZNAME:GMT
DTSTART:20231029T010000
END:STANDARD
BEGIN:DAYLIGHT
TZOFFSETFROM:+0000
TZOFFSETTO:+0100
TZNAME:BST
DTSTART:20240331T010000
END:DAYLIGHT
BEGIN:STANDARD
TZOFFSETFROM:+0100
TZOFFSETTO:+0000
TZNAME:GMT
DTSTART:20241027T010000
END:STANDARD
BEGIN:DAYLIGHT
TZOFFSETFROM:+0000
TZOFFSETTO:+0100
TZNAME:BST
DTSTART:20250330T010000
END:DAYLIGHT
BEGIN:STANDARD
TZOFFSETFROM:+0100
TZOFFSETTO:+0000
TZNAME:GMT
DTSTART:20251026T010000
END:STANDARD
END:VTIMEZONE
BEGIN:VEVENT
DTSTART;TZID=Europe/London:20241202T183000
DTEND;TZID=Europe/London:20241202T230000
DTSTAMP:20260421T193643
CREATED:20231219T221225Z
LAST-MODIFIED:20231219T221225Z
UID:1017-1733164200-1733180400@bognormodelcars.org.uk
SUMMARY:2024 - Autumn/Winter Championship Round 7 / Annual Championship Round 12
DESCRIPTION:
URL:https://bognormodelcars.org.uk/event/2024-autumn-winter-championship-round-7-annual-championship-round-12
LOCATION:Aldingbourne Community Sports Centre\, Olivers Meadow\, Westergate\, West Sussex\, PO20 3YA\, United Kingdom
CATEGORIES:Race Meetings
END:VEVENT
BEGIN:VEVENT
DTSTART;TZID=Europe/London:20241216T183000
DTEND;TZID=Europe/London:20241216T230000
DTSTAMP:20260421T193643
CREATED:20231219T221257Z
LAST-MODIFIED:20241203T194725Z
UID:1019-1734373800-1734390000@bognormodelcars.org.uk
SUMMARY:2024 - Autumn/Winter Championship Round 8
DESCRIPTION:
URL:https://bognormodelcars.org.uk/event/2024-autumn-winter-championship-round-8
LOCATION:Aldingbourne Community Sports Centre\, Olivers Meadow\, Westergate\, West Sussex\, PO20 3YA\, United Kingdom
CATEGORIES:Race Meetings
END:VEVENT
BEGIN:VEVENT
DTSTART;TZID=Europe/London:20241230T183000
DTEND;TZID=Europe/London:20241230T230000
DTSTAMP:20260421T193643
CREATED:20231219T221425Z
LAST-MODIFIED:20241203T195147Z
UID:1021-1735583400-1735599600@bognormodelcars.org.uk
SUMMARY:2024 - Autumn/Winter Championship Round 9
DESCRIPTION:
URL:https://bognormodelcars.org.uk/event/2024-autumn-winter-championship-round-9
LOCATION:Aldingbourne Community Sports Centre\, Olivers Meadow\, Westergate\, West Sussex\, PO20 3YA\, United Kingdom
CATEGORIES:Race Meetings
END:VEVENT
END:VCALENDAR