BEGIN:VCALENDAR
VERSION:2.0
PRODID:-//Bognor Model Car Club - ECPv6.15.17//NONSGML v1.0//EN
CALSCALE:GREGORIAN
METHOD:PUBLISH
X-ORIGINAL-URL:https://bognormodelcars.org.uk
X-WR-CALDESC:Events for Bognor Model Car Club
REFRESH-INTERVAL;VALUE=DURATION:PT1H
X-Robots-Tag:noindex
X-PUBLISHED-TTL:PT1H
BEGIN:VTIMEZONE
TZID:Europe/London
BEGIN:DAYLIGHT
TZOFFSETFROM:+0000
TZOFFSETTO:+0100
TZNAME:BST
DTSTART:20240331T010000
END:DAYLIGHT
BEGIN:STANDARD
TZOFFSETFROM:+0100
TZOFFSETTO:+0000
TZNAME:GMT
DTSTART:20241027T010000
END:STANDARD
BEGIN:DAYLIGHT
TZOFFSETFROM:+0000
TZOFFSETTO:+0100
TZNAME:BST
DTSTART:20250330T010000
END:DAYLIGHT
BEGIN:STANDARD
TZOFFSETFROM:+0100
TZOFFSETTO:+0000
TZNAME:GMT
DTSTART:20251026T010000
END:STANDARD
BEGIN:DAYLIGHT
TZOFFSETFROM:+0000
TZOFFSETTO:+0100
TZNAME:BST
DTSTART:20260329T010000
END:DAYLIGHT
BEGIN:STANDARD
TZOFFSETFROM:+0100
TZOFFSETTO:+0000
TZNAME:GMT
DTSTART:20261025T010000
END:STANDARD
END:VTIMEZONE
BEGIN:VEVENT
DTSTART;TZID=Europe/London:20250407T183000
DTEND;TZID=Europe/London:20250407T230000
DTSTAMP:20260421T135727
CREATED:20241203T201412Z
LAST-MODIFIED:20241203T201412Z
UID:1127-1744050600-1744066800@bognormodelcars.org.uk
SUMMARY:2025 - Spring Championship Round 7 / Annual Championship Round 4
DESCRIPTION:
URL:https://bognormodelcars.org.uk/event/2025-spring-championship-round-7
LOCATION:Aldingbourne Community Sports Centre\, Olivers Meadow\, Westergate\, West Sussex\, PO20 3YA\, United Kingdom
CATEGORIES:Race Meetings
END:VEVENT
BEGIN:VEVENT
DTSTART;TZID=Europe/London:20250421T183000
DTEND;TZID=Europe/London:20250421T230000
DTSTAMP:20260421T135727
CREATED:20241203T201721Z
LAST-MODIFIED:20241203T201721Z
UID:1129-1745260200-1745276400@bognormodelcars.org.uk
SUMMARY:2025 - Spring Championship Round 8
DESCRIPTION:
URL:https://bognormodelcars.org.uk/event/2025-spring-championship-round-7-annual-championship-round-8
LOCATION:Aldingbourne Community Sports Centre\, Olivers Meadow\, Westergate\, West Sussex\, PO20 3YA\, United Kingdom
CATEGORIES:Race Meetings
END:VEVENT
END:VCALENDAR